BEGIN:VCALENDAR
VERSION:2.0
PRODID:-//Northeastern Maryland Intergroup Of Alcoholics Anonymous - ECPv6.15.20//NONSGML v1.0//EN
CALSCALE:GREGORIAN
METHOD:PUBLISH
X-WR-CALNAME:Northeastern Maryland Intergroup Of Alcoholics Anonymous
X-ORIGINAL-URL:https://www.nemdaa.org
X-WR-CALDESC:Events for Northeastern Maryland Intergroup Of Alcoholics Anonymous
REFRESH-INTERVAL;VALUE=DURATION:PT1H
X-Robots-Tag:noindex
X-PUBLISHED-TTL:PT1H
BEGIN:VTIMEZONE
TZID:America/New_York
BEGIN:DAYLIGHT
TZOFFSETFROM:-0500
TZOFFSETTO:-0400
TZNAME:EDT
DTSTART:20190310T070000
END:DAYLIGHT
BEGIN:STANDARD
TZOFFSETFROM:-0400
TZOFFSETTO:-0500
TZNAME:EST
DTSTART:20191103T060000
END:STANDARD
BEGIN:DAYLIGHT
TZOFFSETFROM:-0500
TZOFFSETTO:-0400
TZNAME:EDT
DTSTART:20200308T070000
END:DAYLIGHT
BEGIN:STANDARD
TZOFFSETFROM:-0400
TZOFFSETTO:-0500
TZNAME:EST
DTSTART:20201101T060000
END:STANDARD
BEGIN:DAYLIGHT
TZOFFSETFROM:-0500
TZOFFSETTO:-0400
TZNAME:EDT
DTSTART:20210314T070000
END:DAYLIGHT
BEGIN:STANDARD
TZOFFSETFROM:-0400
TZOFFSETTO:-0500
TZNAME:EST
DTSTART:20211107T060000
END:STANDARD
BEGIN:DAYLIGHT
TZOFFSETFROM:-0500
TZOFFSETTO:-0400
TZNAME:EDT
DTSTART:20220313T070000
END:DAYLIGHT
BEGIN:STANDARD
TZOFFSETFROM:-0400
TZOFFSETTO:-0500
TZNAME:EST
DTSTART:20221106T060000
END:STANDARD
BEGIN:DAYLIGHT
TZOFFSETFROM:-0500
TZOFFSETTO:-0400
TZNAME:EDT
DTSTART:20230312T070000
END:DAYLIGHT
BEGIN:STANDARD
TZOFFSETFROM:-0400
TZOFFSETTO:-0500
TZNAME:EST
DTSTART:20231105T060000
END:STANDARD
END:VTIMEZONE
BEGIN:VEVENT
DTSTART;TZID=America/New_York:20220514T103000
DTEND;TZID=America/New_York:20220514T133000
DTSTAMP:20260424T124000
CREATED:20220507T155849Z
LAST-MODIFIED:20220507T162751Z
UID:10001681-1652524200-1652535000@www.nemdaa.org
SUMMARY:Young People Service Workshop
DESCRIPTION:  \nSaturday\, May 14th – 10:30 am – 1:30 pm \nCurious about all the acronyms you hear? Unsure of the ways to grow and develop in your recovery? Maybe you have questions like these folks? Come learn abut the answers to questions like these and the many service opportunities beyond the homegroup in AA that support our recovery. Meet some of the trusted servants in Area 29 who can tell you more about it! \nSt. John’s United Methodist Church – 216 W. Seminary Ave. Lutherville/Timonium\, MD 21093 \nSee FLYER \n 
URL:https://www.nemdaa.org/event/young-people-service-workshop
LOCATION:St. John’s United Methodist Church\, 216 W. Seminary Ave\, Lutherville\, MD\, 21093\, United States
END:VEVENT
BEGIN:VEVENT
DTSTART;TZID=America/New_York:20200322T130000
DTEND;TZID=America/New_York:20200322T150000
DTSTAMP:20260424T124000
CREATED:20200220T193311Z
LAST-MODIFIED:20200220T194132Z
UID:10001339-1584882000-1584889200@www.nemdaa.org
SUMMARY:CARC 3 - 2020
DESCRIPTION:CARC 3 (Conference Agenda Review Committee) – Central Maryland; lead by Misty L. This is the 3rd of 4 conferences and pertains to the following districts: 3\, 4\, 10\, 11\, 14\, 15\, 18\, 19\, 28\, 30\, 33\, 34\, & 39.
URL:https://www.nemdaa.org/event/carc-3-2020
LOCATION:St. John’s United Methodist Church\, 216 W. Seminary Ave\, Lutherville\, MD\, 21093\, United States
END:VEVENT
END:VCALENDAR